BEGIN:VCALENDAR
VERSION:2.0
PRODID:spatie/icalendar-generator
DESCRIPTION:Events from Semazen
X-WR-CALDESC:Events from Semazen
REFRESH-INTERVAL;VALUE=DURATION:PT1440M
X-PUBLISHED-TTL:PT1440M
BEGIN:VTIMEZONE
TZID:Europe/Istanbul
BEGIN:STANDARD
DTSTART:20221211T203000Z
TZOFFSETFROM:+0300
TZOFFSETTO:+0300
END:STANDARD
END:VTIMEZONE
BEGIN:VTIMEZONE
TZID:UTC
BEGIN:STANDARD
DTSTART:20250724T082927Z
TZOFFSETFROM:+0000
TZOFFSETTO:+0000
END:STANDARD
END:VTIMEZONE
BEGIN:VEVENT
UID:12-7
DTSTAMP:20260420T082927Z
SUMMARY:Türbede Sema
LOCATION:
ORGANIZER;CN=semazen:MAILTO:mehmet@semazen.net
RRULE:FREQ=WEEKLY;UNTIL=20230928T000000Z
DTSTART;TZID=Europe/Istanbul:20230907T203000
DTEND;TZID=Europe/Istanbul:20230907T220000
X-ALT-DESC;FMTTYPE=TEXT/HTML:Hz. Mevlana Türbesi bahçesinde Uluslararası
  Mevlana Vakfı Sema ve Musiki Topluluğu tarafından gerçekleştirilen S
 ema Mukabelesi 2023 yaz dönemi için başlamıştır. Hava durumunun izin
  verdiği sürece her Perşembe saat 20.30 da.  (hava izin verirse)
CATEGORIES:Mevlevi Ayini Şerifi
URL;VALUE=URI:https://www.semazen.net/mc-events/turbede-sema/?mc_id=12
METHOD:PUBLISH
END:VEVENT
END:VCALENDAR