BEGIN:VCALENDAR
VERSION:2.0
PRODID:spatie/icalendar-generator
DESCRIPTION:Events from Semazen
X-WR-CALDESC:Events from Semazen
REFRESH-INTERVAL;VALUE=DURATION:PT1440M
X-PUBLISHED-TTL:PT1440M
BEGIN:VTIMEZONE
TZID:Europe/Istanbul
BEGIN:STANDARD
DTSTART:20230209T183000Z
TZOFFSETFROM:+0300
TZOFFSETTO:+0300
END:STANDARD
END:VTIMEZONE
BEGIN:VTIMEZONE
TZID:UTC
BEGIN:STANDARD
DTSTART:20250728T065823Z
TZOFFSETFROM:+0000
TZOFFSETTO:+0000
END:STANDARD
END:VTIMEZONE
BEGIN:VEVENT
UID:165-13
DTSTAMP:20260424T065823Z
SUMMARY:Ankara'da “Mesnevî Okumaları”
LOCATION:
ORGANIZER;CN=semazen:MAILTO:mehmet@semazen.net
RRULE:FREQ=WEEKLY;UNTIL=20240219T000000Z
DTSTART;TZID=Europe/Istanbul:20231106T183000
DTEND;TZID=Europe/Istanbul:20231106T193000
X-ALT-DESC;FMTTYPE=TEXT/HTML:<p>Türkiye Yazarlar Birliği’nin önemli ve
  sürekli faaliyetlerinden biri olan “Mesnevî Okumaları”\, İlahiyat
 \, dil tarih ve edebiyat fakültelerinin seçkin hocaları olan Dr. Halil 
 İbrahim Sarıoğlu\, Prof. Dr. Adnan Karaismailoğlu\, Prof. Dr. Zülfika
 r Güngör\, Doç. Dr. Yakup Şafak\, Dr. Öğretim Üyesi Ebubekir Sıdd
 ık Şahin ve Dr. Öğretim Üyesi Fahrettin Coşguner dönüşümlü olar
 ak Mesnevî okumalarına devam edecekler.Orijinal metninden okunup\, terc
 üme edilerek açıklanan Mesnevî okumaları her pazartesi  günü TYB 
 Mehmed Âkif Divanı’nda  yüz yüze devam edecek.</p>\n<p>Türkiye Yaz
 arlar Birliği Mehmed Âkif Divanı - Sümer 1 Caddesi 11 / 9 - Kızılay/
 Ankara</p>\n<p><a href="https://www.youtube.com/@TYB1978/streams">https:
 //www.youtube.com/@TYB1978/streams</a></p>\n
CATEGORIES:Mesnevi Okumaları
URL;VALUE=URI:https://www.semazen.net/mc-events/ankarada-mesnevi-okumalari/
 ?mc_id=165
METHOD:PUBLISH
END:VEVENT
END:VCALENDAR